BEGIN:VCALENDAR
VERSION:2.0
PRODID:-//Katolsk//Calendar//EN
BEGIN:VEVENT
UID:1c053ddef62b1a52a20b8361da2c854d
SUMMARY:Kurs i Den Gode Hyrde-katekese for barn (0–3år)
DTSTAMP:20260423T164009Z
DTSTART;VALUE=DATE:20260426
DTEND;VALUE=DATE:20260509
DESCRIPTION:Den Gode Hyrde-katekesen ble utviklet av den italienske\, katolske bibelforskeren Sophia Cavaletti i 1950-årene og bygger på Maria Montessoris praktisk-pedagogiske læringsmetode: Barna får nærme seg troens mysterier i sitt eget tempo. De får presentert emner fra Bibelen og liturgien ved hjelp av materiell som er spesielt tilrettelagt for deres aldersgruppe og som barna får arbeide videre med. Bønnen har også en sentral plass i denne katekesen som per i dag brukes i ca. 40 land i verde...
LOCATION:St. Paul kirke
END:VEVENT
END:VCALENDAR
