BEGIN:VCALENDAR
VERSION:2.0
PRODID:-//Katolsk//Calendar//EN
BEGIN:VEVENT
UID:2f0b4694b81508e57778e65182eece53
SUMMARY:KALK - gruppe for unge kvinner (18+)
DTSTAMP:20260423T195602Z
DTSTART:20260322T100000Z
DTEND:20260322T170000Z
DESCRIPTION:KALK er Katarinahjemmets lokallag for kvinner (18+). Gruppen er også tilknyttet NUK. Gruppen møtes månedlig for messe\, rosenkrans eller tilbedelse og en aktivitet. Det kan være smykkeverksted\, foredrag\, refleksjonssesjon\, middag sammen eller brettspillkveld. 11.00: messe i St. Olav kirke deretter Paints on Pots. NB! Påmelding! 920 94 143 Hvis du lurer på noe er\, det bare å sende en melding til Maria (+47 936 91 913) eller Natalia (+47 920 94 143). 
LOCATION:St. Olav kirke
END:VEVENT
END:VCALENDAR
