BEGIN:VCALENDAR
VERSION:2.0
PRODID:-//Katolsk//Calendar//EN
BEGIN:VEVENT
UID:474c0ece8f468d8b9ca528f035d2ec7f
SUMMARY:Kurs i Den Gode Hyrde Katekese - Kongsberg
DTSTAMP:20260423T193858Z
DTSTART;VALUE=DATE:20260320
DTEND;VALUE=DATE:20260323
DESCRIPTION:Den 20. - 22. mars avholdes kurs i Den gode hyrde katekese i Sta. Barbara menighet på Kongsberg.  Er du interessert i Den gode hyrde katekese\, men mangler opplæring/kursing?Kanskje vet du ikke hva Den gode hyrde er-? Kurset på Kongsberg er en del av en kursserie som fortsetter i november i år\, også i februar neste år.  Få mer informasjon HER. Påmelding og evt. spørsmål sendes til: Katarzyna Jachimowicz (kjachimowicz8@gmail.com)\, Mobil: 94 17 35 42
END:VEVENT
END:VCALENDAR
